BEGIN:VCALENDAR
VERSION:2.0
PRODID:-//NetWorthCircle - ECPv6.15.20//NONSGML v1.0//EN
CALSCALE:GREGORIAN
METHOD:PUBLISH
X-WR-CALNAME:NetWorthCircle
X-ORIGINAL-URL:https://networthcircle.com
X-WR-CALDESC:Events for NetWorthCircle
REFRESH-INTERVAL;VALUE=DURATION:PT1H
X-Robots-Tag:noindex
X-PUBLISHED-TTL:PT1H
BEGIN:VTIMEZONE
TZID:Asia/Kuala_Lumpur
BEGIN:STANDARD
TZOFFSETFROM:+0800
TZOFFSETTO:+0800
TZNAME:+08
DTSTART:20240101T000000
END:STANDARD
END:VTIMEZONE
BEGIN:VEVENT
DTSTART;TZID=Asia/Kuala_Lumpur:20250417T080000
DTEND;TZID=Asia/Kuala_Lumpur:20250417T170000
DTSTAMP:20260425T003006
CREATED:20250416T201056Z
LAST-MODIFIED:20250416T201325Z
UID:117-1744876800-1744909200@networthcircle.com
SUMMARY:Test run event
DESCRIPTION:Come join us to listen \n \n 
URL:https://networthcircle.com/event/test-run-event/
LOCATION:Kuala Lumpur\, Malaysia\, Kuala Lumpur\, Malaysia
CATEGORIES:Business & Entrepreneurship
END:VEVENT
END:VCALENDAR